BEGIN:VCALENDAR
VERSION:2.0
PRODID:-//APOTHEKE ADHOC Webinar //NONSGML Events //EN
CALSCALE:GREGORIAN
X-WR-CALNAME:APOTHEKE ADHOC Webinar
BEGIN:VEVENT
CREATED:20260421T125047Z
UID:59594
DTEND:20260430T120000Z
DTSTART:20260430T110000Z
DTSTAMP:20260424T161953Z
LOCATION:https://webinar.apotheke-adhoc.de
SUMMARY:Wie viel Sparkurs verträgt die Apotheke?
ORGANIZER:VISION.A Webinar
URL;VALUE=URI:https://webinar.apotheke-adhoc.de/webinar/sparkurs-apotheken/
TRANSP:OPAQUE
STATUS:CONFIRMED
DESCRIPTION:Statt der lang ersehnten Fixumserhöhung hat der Bund der Apothekerschaft erst einmal einen neuen Kostenpunkt aufgedrückt: Erneut sollen die Apotheken dazu beitragen, die finanzielle Schieflage der GKV durch einen höheren Abschlag abzumildern – diesmal mit 2,07 Euro pro Packung und ohne zeitliche Befristung. Am 29. April will das Kabinett den Entwurf beschließen. Doch welche Auswirkungen wird das Spargesetz tatsächlich auf die Apothekenlandschaft haben? Wie könnte sich die wirtschaftliche Situation entwickeln? Könnte das Fixum – sollte es, wie von der Union angedacht, vor Inkrafttreten der Sparmaßnahmen kommen – trotzdem die wirtschaftliche Situation der Betriebe verbessern? Und welche Hoffnungen gibt es bezüglich der Verhandlungslösung der Apothekerschaft mit dem GKV-Spitzenverband, die Vergütung künftig selbst auszuhandeln? Darüber sprechen wir einen Tag nach dem Kabinettsbeschluss am 30. April mit Dr. Sebastian Schwintek, Generalbevollmächtigter der Treuhand Hannover, Anne-Kathrin Klemm, Vorständin des BKK Dachverbandes, und Abda-Präsident Thomas Preis beim APOTHEKE LIVE um 13 Uhr.  Seien Sie live dabei: Wir beantworten Ihre Fragen direkt im Talk.
 \n\nWir freuen uns auf Sie!\nIhr Team von APOTHEKE ADHOC Webinar \n\nAm Webinar Wie viel Sparkurs verträgt die Apotheke? 
 teilnehmen:\nhttps://webinar.apotheke-adhoc.de/webinar/sparkurs-apotheken/
BEGIN:VALARM
ACTION:DISPLAY
TRIGGER;VALUE=DATE-TIME:20260430T100000Z
END:VALARM
END:VEVENT
END:VCALENDAR