BEGIN:VCALENDAR
VERSION:2.0
PRODID:-//APOTHEKE ADHOC Webinar //NONSGML Events //EN
CALSCALE:GREGORIAN
X-WR-CALNAME:APOTHEKE ADHOC Webinar
BEGIN:VEVENT
CREATED:20260420T065055Z
UID:59512
DTEND:20260421T160000Z
DTSTART:20260421T150000Z
DTSTAMP:20260420T153413Z
LOCATION:https://webinar.apotheke-adhoc.de
SUMMARY:Warkens Spargesetz
ORGANIZER:VISION.A Webinar
URL;VALUE=URI:https://webinar.apotheke-adhoc.de/webinar/warkens-spargesetz/
TRANSP:OPAQUE
STATUS:CONFIRMED
DESCRIPTION:Es geht ans Eingemachte: Das geplante Spargesetz von Gesundheitsministerin Nina Warken sorgt für Diskussionen in der Branche – und wir wollen sie gemeinsam mit Ihnen führen. Morgen, Dienstag 20. April ab 17 Uhr live aus unserem Berliner Studio. Die Ministerin will das Milliardendefizit im Gesundheitswesen eindämmen – doch der Preis dafür ist umstritten. Zwangsrabatte, steigender Druck auf Apotheken und Leistungserbringer: Ist dieser Kurs nachhaltig? Wie weit lässt sich das System noch belasten? Und wer trägt am Ende die Konsequenzen? Wir beleuchten die Hintergründe, ordnen die Pläne ein und diskutieren, was sie konkret für die Apotheken vor Ort bedeuten. Seien Sie live dabei und bringen Sie Ihre Fragen ein!
 \n\nWir freuen uns auf Sie!\nIhr Team von APOTHEKE ADHOC Webinar \n\nAm Webinar Warkens Spargesetz 
 teilnehmen:\nhttps://webinar.apotheke-adhoc.de/webinar/warkens-spargesetz/
BEGIN:VALARM
ACTION:DISPLAY
TRIGGER;VALUE=DATE-TIME:20260421T140000Z
END:VALARM
END:VEVENT
END:VCALENDAR