BEGIN:VCALENDAR
VERSION:2.0
PRODID:-//APOTHEKE ADHOC Webinar //NONSGML Events //EN
CALSCALE:GREGORIAN
X-WR-CALNAME:APOTHEKE ADHOC Webinar
BEGIN:VEVENT
CREATED:20260413T142203Z
UID:59443
DTEND:20260521T190000Z
DTSTART:20260521T180000Z
DTSTAMP:20260423T192516Z
LOCATION:https://webinar.apotheke-adhoc.de
SUMMARY:Vom Risiko zur täglichen Praxis
ORGANIZER:VISION.A Webinar
URL;VALUE=URI:https://webinar.apotheke-adhoc.de/webinar/vom-risiko-zur-taeglichen-praxis/
TRANSP:OPAQUE
STATUS:CONFIRMED
DESCRIPTION:Die dritte Folge der Webinarreihe „Hochpreisermanagement“ mit Apotheker Steffen Kuhnert als Studiogast bildet den strategischen Abschluss und setzt beim Mindset an: Hochpreiser werden nicht länger als Risiko betrachtet, sondern als gezielte Marktlücke mit erheblichem wirtschaftlichem Potenzial. Anhand praxisnaher Einblicke wird deutlich, dass gerade dort Chancen entstehen, wo viele Apotheken aus Unsicherheit zurückhaltend agieren. Angst verstehen – und in Strategie verwandeln Ein zentraler Bestandteil der Episode ist die Einordnung der weit verbreiteten „Hochpreiser-Angst“. Diese wird nicht relativiert, sondern sachlich erklärt: Hohe Abrechnungsbeträge und das Risiko von Retaxationen machen Hochpreiser zu einem sensiblen Geschäftsfeld. Gleichzeitig zeigt die Folge, dass genau diese Herausforderung durch klare Prozesse und fundierte Entscheidungen beherrschbar wird – und damit zur echten unternehmerischen Chance avanciert. Prozesse und Daten als Steuerungsinstrument Die Folge macht deutlich, wie wichtig ein strukturierter „Fahrplan“ für Hochpreiser ist. Von der Analyse über die Abgabe bis hin zur Abrechnung: Wer seine Kennzahlen kennt und systematisch auswertet, kann fundierte Entscheidungen treffen und Risiken aktiv steuern. Die Nutzung von Warenwirtschaftsdaten und Auswertungen schafft dabei die notwendige Transparenz, um Entwicklungen frühzeitig zu erkennen und gezielt zu handeln. Liquidität sichern und flexibel handeln Im Zentrum steht zudem die Frage der Liquidität – einer der kritischsten Faktoren im Hochpreiser-Geschäft. Die Episode zeigt praxisnah, wie zeitliche Lücken zwischen Abgabe und Auszahlung entstehen und welche Lösungen es gibt, um diese zu überbrücken. Flexible Vorfinanzierungsmodelle ermöglichen es, jederzeit handlungsfähig zu bleiben und auch hochpreisige Verordnungen wirtschaftlich sinnvoll zu bedienen
 \n\nWir freuen uns auf Sie!\nIhr Team von APOTHEKE ADHOC Webinar \n\nAm Webinar Vom Risiko zur täglichen Praxis 
 teilnehmen:\nhttps://webinar.apotheke-adhoc.de/webinar/vom-risiko-zur-taeglichen-praxis/
BEGIN:VALARM
ACTION:DISPLAY
TRIGGER;VALUE=DATE-TIME:20260521T170000Z
END:VALARM
END:VEVENT
END:VCALENDAR