BEGIN:VCALENDAR
VERSION:2.0
PRODID:-//APOTHEKE ADHOC Webinar //NONSGML Events //EN
CALSCALE:GREGORIAN
X-WR-CALNAME:APOTHEKE ADHOC Webinar
BEGIN:VEVENT
CREATED:20260413T140912Z
UID:59442
DTEND:20260512T190000Z
DTSTART:20260512T180000Z
DTSTAMP:20260423T192515Z
LOCATION:https://webinar.apotheke-adhoc.de
SUMMARY:Digital &amp; effizient im Team
ORGANIZER:VISION.A Webinar
URL;VALUE=URI:https://webinar.apotheke-adhoc.de/webinar/digital-und-effizient-im-team/
TRANSP:OPAQUE
STATUS:CONFIRMED
DESCRIPTION:Die zweite Folge der Webinarreihe „Hochpreisermanagement“ mit Apothekerin &amp; Inhaberin Stefanie Jacob als Studiogast rückt einen entscheidenden, oft unterschätzten Erfolgsfaktor in den Fokus: das Team. Im Zentrum steht die Frage, wie Apotheken es schaffen, Hochpreiser nicht nur strukturell sicher zu managen, sondern dieses Wissen nachhaltig im gesamten Team zu verankern. Die Folge zeigt, dass echte Sicherheit erst dann entsteht, wenn alle Mitarbeitenden eingebunden sind und Verantwortung mittragen. Fehlerquellen erkennen und systematisch reduzieren Ein wesentlicher Bestandteil der Episode ist die Auseinandersetzung mit typischen Retaxationsgründen. Häufige Fehler – von formalen Unstimmigkeiten bis hin zu fehlerhaften Angaben – werden klar benannt und in ihrer wirtschaftlichen Tragweite eingeordnet. Gleichzeitig wird aufgezeigt, wie automatisierte Prüfprozesse mit über 1.000 Kontrollmechanismen dazu beitragen können, sowohl Papier- als auch E-Rezepte zuverlässig abzusichern und finanzielle Risiken deutlich zu minimieren. Digitale Unterstützung als Entlastung im Alltag Die Folge verdeutlicht, wie digitale Tools nicht nur Kontrolle schaffen, sondern vor allem das Team entlasten. Durch automatisierte Prüfungen und klare Prozessstrukturen wird der Arbeitsaufwand reduziert und die Fehleranfälligkeit gesenkt. Das Ergebnis: mehr Zeit für die eigentliche pharmazeutische Arbeit und eine spürbare Entlastung im Tagesgeschäft. Liquidität flexibel steuern Ein weiterer Schwerpunkt liegt auf der finanziellen Perspektive. Das Webinar gibt Einblicke in moderne Modelle der Liquiditätssteuerung, bei denen Rezeptguthaben schneller verfügbar gemacht werden können. Flexible Auszahlungsmodelle und transparente Finanzierungsoptionen sorgen dafür, dass Apotheken jederzeit handlungsfähig bleiben und ihre Zahlungsströme aktiv steuern können.
 \n\nWir freuen uns auf Sie!\nIhr Team von APOTHEKE ADHOC Webinar \n\nAm Webinar Digital &amp; effizient im Team 
 teilnehmen:\nhttps://webinar.apotheke-adhoc.de/webinar/digital-und-effizient-im-team/
BEGIN:VALARM
ACTION:DISPLAY
TRIGGER;VALUE=DATE-TIME:20260512T170000Z
END:VALARM
END:VEVENT
END:VCALENDAR