BEGIN:VCALENDAR
VERSION:2.0
PRODID:-//APOTHEKE ADHOC Webinar //NONSGML Events //EN
CALSCALE:GREGORIAN
X-WR-CALNAME:APOTHEKE ADHOC Webinar
BEGIN:VEVENT
CREATED:20260413T134019Z
UID:59439
DTEND:20260507T190000Z
DTSTART:20260507T180000Z
DTSTAMP:20260423T192608Z
LOCATION:https://webinar.apotheke-adhoc.de
SUMMARY:Prozesse sicher beherrschen
ORGANIZER:VISION.A Webinar
URL;VALUE=URI:https://webinar.apotheke-adhoc.de/webinar/prozesse-sicher-beherrschen/
TRANSP:OPAQUE
STATUS:CONFIRMED
DESCRIPTION:Die erste Folge der Webinarreihe „Hochpreisermanagement“ mit Apothekerin Dr. Eva-Maria Lippke als Studiogast zeigt, wie Apothekeninhaber:innen auch in Phasen tiefgreifender Umbrüche Kontrolle und wirtschaftliche Stabilität bewahren. Im Mittelpunkt steht eine praxisnahe Transformationssituation: der Wechsel von der Einzelapotheke in eine neue Gesellschaftsform sowie ein paralleler Rechenzentrumswechsel nach jahrzehntelanger Beständigkeit. Gerade bei Hochpreisern wird dabei deutlich, wie entscheidend stabile Prozesse für Liquidität und Planungssicherheit sind. Schlanke Prozesse statt komplexer Strukturen Ein zentrales Learning der Folge: Erfolgreiches Hochpreiser-Management braucht keine aufwendigen Strukturen. Vielmehr reichen klare, schlanke Abläufe – von der Erfassung bis zur Abrechnung. Auch kleinere Apotheken können Hochpreiser sicher und effizient managen, ohne zusätzliche organisatorische Belastung. Retaxationen vermeiden, Erträge sichern Die Episode macht typische Fehlerquellen in der Rezeptabrechnung sichtbar und zeigt deren finanzielle Auswirkungen. Gleichzeitig wird deutlich, wie strukturierte Prüfprozesse und digitale Unterstützung helfen, Retaxationen deutlich zu reduzieren. Der konkrete Mehrwert: weniger finanzielle Verluste und mehr Sicherheit im Tagesgeschäft. Transparenz und Liquidität im Fokus Moderne Tools schaffen vollständige Transparenz über alle Rezepte – unabhängig davon, ob Papier- oder E-Rezept. Dadurch behalten Inhaber:innen jederzeit den Überblick und können Zahlungsflüsse gezielt steuern. Besonders in Umbruchphasen wird so die Liquidität gesichert und unternehmerische Stabilität gewährleistet.
 \n\nWir freuen uns auf Sie!\nIhr Team von APOTHEKE ADHOC Webinar \n\nAm Webinar Prozesse sicher beherrschen 
 teilnehmen:\nhttps://webinar.apotheke-adhoc.de/webinar/prozesse-sicher-beherrschen/
BEGIN:VALARM
ACTION:DISPLAY
TRIGGER;VALUE=DATE-TIME:20260507T170000Z
END:VALARM
END:VEVENT
END:VCALENDAR